BEGIN:VCALENDAR
VERSION:2.0
PRODID:-//Tukios.com/
BEGIN:VEVENT
UID:8b26d26e-4806-4ead-99f1-dd3f50a63bdb@www.harrisnadeaumortuary.com
DTSTAMP:20260426T013208Z
DTSTART:20260428T170000Z
DTEND:20260428T180000Z
SUMMARY:Visitation
DESCRIPTION:
URL:https://www.harrisnadeaumortuary.com/obituaries/janet-brannon
LOCATION: 382 Sandy Springs Rd  Rutherfordton NC 28139
GEO:35.2041208;-81.9835221
END:VEVENT
END:VCALENDAR