BEGIN:VCALENDAR
VERSION:2.0
PRODID:-//Tukios.com/
BEGIN:VEVENT
UID:e3d6f9a1-90b5-4138-b561-fa5187dce6de@www.harrisnadeaumortuary.com
DTSTAMP:20260426T013310Z
DTSTART:20260428T180000Z
DTEND:20260428T190000Z
SUMMARY:Funeral Service
DESCRIPTION:
URL:https://www.harrisnadeaumortuary.com/obituaries/janet-brannon
LOCATION: 382 Sandy Springs Rd  Rutherfordton NC 28139
GEO:35.2041208;-81.9835221
END:VEVENT
END:VCALENDAR